BEGIN:VCALENDAR
VERSION:2.0
PRODID:-//jEvents 2.0 for Joomla//EN
CALSCALE:GREGORIAN
METHOD:PUBLISH
BEGIN:VEVENT
UID:fdae8692e14ff173c079d07c42eaae35
CATEGORIES:Veranstaltungen
CREATED:20260131T101119
SUMMARY:Maibaumstellen mit der Feuerwehr
DESCRIPTION:
DTSTAMP:20260419T144255
DTSTART;VALUE=DATE:20260430
DTEND;VALUE=DATE:20260501
SEQUENCE:0
TRANSP:OPAQUE
END:VEVENT
END:VCALENDAR