BEGIN:VCALENDAR
VERSION:2.0
PRODID:-//jEvents 2.0 for Joomla//EN
CALSCALE:GREGORIAN
METHOD:PUBLISH
BEGIN:VEVENT
UID:b654f8219e0bdad26d5057d791b8c518
CATEGORIES:Veranstaltungen
CREATED:20260131T100906
SUMMARY:Mitgliederversammlung
DESCRIPTION:<p>Im Vereinszimmer der Turn- und Festhalle Oferdingen.<br />Die Tagesordnu
 ngspunkte sind:<br />1. Begrüßung<br />2. Bericht des Vorstandes<br />3. Be
 richt des Kassiers / der Kassenprüfer<br />4. Entlastung des Vorstandes und
  des Kassiers<br />5. Bericht der Schriftführerin<br />6. Berichte der Fach
 warte<br />7. Berichte der Gruppenleiter<br />8. Wahlen<br />9. Verschieden
 es</p><p>Änderungen oder Ergänzungen zur Tagesordnung, sind bis spätestens 
 7 Tage vor der Mitgliederversammlung beim 1. Vorsitzenden Timo Linhart, Hau
 weg 38,<br />72768 Reutlingen-Oferdingen, Tel. 63611 einzureichen.</p><p>Fü
 r das leibliche Wohl ist mit Butterbrezeln und Getränken bestens gesorgt.</
 p><p><br />1. Vorsitzender, Timo Linhart</p>
DTSTAMP:20260421T105358
DTSTART;VALUE=DATE:20260314
DTEND;VALUE=DATE:20260315
SEQUENCE:0
TRANSP:OPAQUE
END:VEVENT
END:VCALENDAR