BEGIN:VCALENDAR
VERSION:2.0
PRODID:-//jEvents 2.0 for Joomla//EN
CALSCALE:GREGORIAN
METHOD:PUBLISH
BEGIN:VEVENT
UID:31-796@lichtenstein-gau.albverein.eu
CATEGORIES:Lichtensteingau
CREATED:20260105T010005
SUMMARY:Schwarzwaldwanderung
DESCRIPTION:
DTSTAMP:20260419T152645
DTSTART;VALUE=DATE:20260906
SEQUENCE:0
TRANSP:OPAQUE
END:VEVENT
END:VCALENDAR