BEGIN:VCALENDAR
VERSION:2.0
PRODID:-//jEvents 2.0 for Joomla//EN
CALSCALE:GREGORIAN
METHOD:PUBLISH
BEGIN:VEVENT
UID:31-809@lichtenstein-gau.albverein.eu
CATEGORIES:Lichtensteingau
CREATED:20260105T010005
SUMMARY:Pfullinger Albvereinstag auf dem Schönberg
DESCRIPTION:
DTSTAMP:20260421T105631
DTSTART;VALUE=DATE:20260822
SEQUENCE:0
TRANSP:OPAQUE
END:VEVENT
END:VCALENDAR