BEGIN:VCALENDAR
VERSION:2.0
PRODID:-//jEvents 2.0 for Joomla//EN
CALSCALE:GREGORIAN
METHOD:PUBLISH
BEGIN:VEVENT
UID:31-1199@lichtenstein-gau.albverein.eu
CATEGORIES:Lichtensteingau
CREATED:20251228T010003
SUMMARY:Gebirgstour mit der OG Mägerkingen (mehrere Touren mit verschiedenen Schwierigkeitsgraden) (Organisation: OG Mägerkingen)
DESCRIPTION:
DTSTAMP:20260421T121548
DTSTART;VALUE=DATE:20260822
SEQUENCE:0
TRANSP:OPAQUE
END:VEVENT
END:VCALENDAR