BEGIN:VCALENDAR
VERSION:2.0
PRODID:-//jEvents 2.0 for Joomla//EN
CALSCALE:GREGORIAN
METHOD:PUBLISH
BEGIN:VEVENT
UID:31-1198@lichtenstein-gau.albverein.eu
CATEGORIES:Lichtensteingau
CREATED:20251228T010003
SUMMARY:Sonnwendfeier mit Waffelbar am Schützenhaus
DESCRIPTION:
DTSTAMP:20260423T114211
DTSTART;VALUE=DATE:20260619
SEQUENCE:0
TRANSP:OPAQUE
END:VEVENT
END:VCALENDAR