BEGIN:VCALENDAR
VERSION:2.0
PRODID:-//jEvents 2.0 for Joomla//EN
CALSCALE:GREGORIAN
METHOD:PUBLISH
BEGIN:VEVENT
UID:31-1188@lichtenstein-gau.albverein.eu
CATEGORIES:Lichtensteingau
CREATED:20251210T010003
SUMMARY:Themenwanderung Türme &amp;  Wanderheime: Schwäbisches Allgäu
DESCRIPTION:
DTSTAMP:20260419T170935
DTSTART;VALUE=DATE:20260515
SEQUENCE:0
TRANSP:OPAQUE
END:VEVENT
END:VCALENDAR