BEGIN:VCALENDAR
VERSION:2.0
PRODID:-//jEvents 2.0 for Joomla//EN
CALSCALE:GREGORIAN
METHOD:PUBLISH
BEGIN:VEVENT
UID:31-1169@lichtenstein-gau.albverein.eu
CATEGORIES:Lichtensteingau
CREATED:20251103T010003
SUMMARY:Bergtour 2026 mit Angelika
DESCRIPTION:
DTSTAMP:20260419T160036
DTSTART;VALUE=DATE:20260717
DTEND;VALUE=DATE:20260719
SEQUENCE:0
TRANSP:OPAQUE
END:VEVENT
END:VCALENDAR