BEGIN:VCALENDAR
VERSION:2.0
PRODID:-//jEvents 2.0 for Joomla//EN
CALSCALE:GREGORIAN
METHOD:PUBLISH
BEGIN:VEVENT
UID:31-1258@lichtenstein-gau.albverein.eu
CATEGORIES:Lichtensteingau
CREATED:20260421T010002
SUMMARY:Jugend Gruppe - Sunset Walk
DESCRIPTION:
DTSTAMP:20260421T131908
DTSTART;VALUE=DATE:20260613
SEQUENCE:0
TRANSP:OPAQUE
END:VEVENT
END:VCALENDAR