BEGIN:VCALENDAR
VERSION:2.0
PRODID:-//jEvents 2.0 for Joomla//EN
CALSCALE:GREGORIAN
METHOD:PUBLISH
BEGIN:VEVENT
UID:31-1254@lichtenstein-gau.albverein.eu
CATEGORIES:Lichtensteingau
CREATED:20260415T010004
SUMMARY:1. Mai-Feier unterm Maibaum
DESCRIPTION:
DTSTAMP:20260421T134659
DTSTART;VALUE=DATE:20260501
SEQUENCE:0
TRANSP:OPAQUE
END:VEVENT
END:VCALENDAR