BEGIN:VCALENDAR
VERSION:2.0
PRODID:-//jEvents 2.0 for Joomla//EN
CALSCALE:GREGORIAN
METHOD:PUBLISH
BEGIN:VEVENT
UID:31-1252@lichtenstein-gau.albverein.eu
CATEGORIES:Lichtensteingau
CREATED:20260413T010005
SUMMARY:Einladung zum Maibaum-Hock
DESCRIPTION:
DTSTAMP:20260419T145033
DTSTART;VALUE=DATE:20260430
SEQUENCE:0
TRANSP:OPAQUE
END:VEVENT
END:VCALENDAR