BEGIN:VCALENDAR
VERSION:2.0
PRODID:-//jEvents 2.0 for Joomla//EN
CALSCALE:GREGORIAN
METHOD:PUBLISH
BEGIN:VEVENT
UID:31-1247@lichtenstein-gau.albverein.eu
CATEGORIES:Lichtensteingau
CREATED:20260401T010002
SUMMARY:Radtour
DESCRIPTION:
DTSTAMP:20260419T212302
DTSTART;VALUE=DATE:20260423
SEQUENCE:0
TRANSP:OPAQUE
END:VEVENT
END:VCALENDAR