BEGIN:VCALENDAR
VERSION:2.0
PRODID:-//jEvents 2.0 for Joomla//EN
CALSCALE:GREGORIAN
METHOD:PUBLISH
BEGIN:VEVENT
UID:0-1243@lichtenstein-gau.albverein.eu
CATEGORIES:Lichtensteingau
CREATED:20260329T010003
SUMMARY:Hauptversammlung mit Rahmenprogramm
DESCRIPTION:\n\n\n\nDie jährliche Mitgliederversammlung findet dieses Jahr mit Rahmenpr
 ogramm in Sigmaringendorf statt.\nHerzliche Einladung dazu!\n\n\n\n\n\nHaup
 tversammlung um 10:00 Uhr in der Donau-Lauchert-Halle\nTagesordnung:\n\nTOP
  1 – Eröffnung und Begrüßung durch das Präsidium\nTOP 2 – Grußworte\nTOP 3 
 – Festrede durch eine Vertretung der Landesregierung\nTOP 4 – Bericht des P
 räsidiums\nTOP 5 – Bericht des Hauptjugendwartes\nTOP 6 – Jahresrechnung 20
 25 mit Bericht der Rechnungsprüferinnen\nTOP 7 – Vorstellung Haushaltsplan 
 2026\nTOP 8 – Ehrungen\nTOP 9 – Einladung zur Hauptversammlung 2027\nTOP 10
  – Schlusswort\nTOP 11 – Albvereinslied „So steckt dies Zeichen an den Hut“
 \n\n\n\n\nRahmenprogramm\nin der Donau-Lauchert-Halle\nSamstag, 13. Juni 20
 26\n17 Uhr Workshop Fit fürs Danzfeschd: Danza lerne ond üba\n19:30 Uhr Dan
 zfeschd: Danza, gugga, schwäza, essa ond trenka\n\nSonntag, 14. Juni 2026\n
 Nach der Hauptversammlung gibt es vor der Halle Stände mit Essen und Trinke
 n und Musik. Im Foyer der Festhalle gibt es Kaffee und Kuchen. Das „Lädle“ 
 ist mit einem Stand vor Ort.\n\n14:00 Uhr Schulwanderwettbewerb in der Hall
 e mit Schirmherrin Gerlinde Kretschmann\n\n13:30 Uhr Foyer\n„Kurz gefragt, 
 weit gedacht – Engagement, das verbindet“\nBei unserer Veranstaltung „Kurz 
 gefragt, weit gedacht“ nehmen wir Sie mit auf eine spannende Reise durch un
 seren Verein. In kurzen Interviews sprechen wir mit Mitgliedern, Ehrenamtli
 chen und Verantwortlichen über aktuelle Themen rund um den Verein, das Enga
 gement für Natur und Heimat sowie Aktivitäten für Jung und Alt.\nErfahren S
 ie aus erster Hand, welche Ideen, Projekte und Geschichten unseren Verein l
 ebendig machen, welche Wege wir gemeinsam gehen und wie Menschen durch ehre
 namtliches Engagement verbunden werden. Ob neugierig auf neue Initiativen, 
 Inspiration für eigenes Engagement oder einfach die Gesichter hinter dem Ve
 rein kennenlernen – hier bekommen Sie kurze, informative und persönliche Ei
 nblicke.\n\n\n\nGeführte Wanderungen und Radtouren\n„Treffpunkt Festplatz“ 
 vor der Donau-Lauchert Halle\nSonntag, 14. Juni 2026, 9:30 Uhr\n\n 	geführt
 e Tour, 12 km, 2,5 h an die Zielfinger Baggerseen\n 	geführte historische T
 our um Sigmaringendorf, 9 km, 3 h\n 	Spaziergang zu einer Blumenwiese anläs
 slich des Tags der Artenvielfalt\n 	Radtour, 35 km, Ablach-Donautal\n 	Ster
 nradtour (Infos folgen)\n\n \n\n \n\n\nUhrzeit:\n09:30 – 15:30Ort/Ausgangsp
 unkt:\nDonau Lauchert Halle\nLaucertbühl 9\nSigmaringendorf\n\n\n\n
X-ALT-DESC;FMTTYPE=text/html:<br/><br/><br/><br/>Die jährliche Mitgliederversammlung findet dieses Jahr 
 mit Rahmenprogramm in Sigmaringendorf statt.<br/>Herzliche Einladung dazu!<
 br/><br/><br/><br/><br/><br/>Hauptversammlung um 10:00 Uhr in der Donau-Lau
 chert-Halle<br/>Tagesordnung:<br/><br/>TOP 1 – Eröffnung und Begrüßung durc
 h das Präsidium<br/>TOP 2 – Grußworte<br/>TOP 3 – Festrede durch eine Vertr
 etung der Landesregierung<br/>TOP 4 – Bericht des Präsidiums<br/>TOP 5 – Be
 richt des Hauptjugendwartes<br/>TOP 6 – Jahresrechnung 2025 mit Bericht der
  Rechnungsprüferinnen<br/>TOP 7 – Vorstellung Haushaltsplan 2026<br/>TOP 8 
 – Ehrungen<br/>TOP 9 – Einladung zur Hauptversammlung 2027<br/>TOP 10 – Sch
 lusswort<br/>TOP 11 – Albvereinslied „So steckt dies Zeichen an den Hut“<br
 /><br/><br/><br/><br/>Rahmenprogramm<br/>in der Donau-Lauchert-Halle<br/>Sa
 mstag, 13. Juni 2026<br/>17 Uhr Workshop Fit fürs Danzfeschd: Danza lerne o
 nd üba<br/>19:30 Uhr Danzfeschd: Danza, gugga, schwäza, essa ond trenka<br/
 ><br/>Sonntag, 14. Juni 2026<br/>Nach der Hauptversammlung gibt es vor der 
 Halle Stände mit Essen und Trinken und Musik. Im Foyer der Festhalle gibt e
 s Kaffee und Kuchen. Das „Lädle“ ist mit einem Stand vor Ort.<br/><br/>14:0
 0 Uhr Schulwanderwettbewerb in der Halle mit Schirmherrin Gerlinde Kretschm
 ann<br/><br/>13:30 Uhr Foyer<br/>„Kurz gefragt, weit gedacht – Engagement, 
 das verbindet“<br/>Bei unserer Veranstaltung „Kurz gefragt, weit gedacht“ n
 ehmen wir Sie mit auf eine spannende Reise durch unseren Verein. In kurzen 
 Interviews sprechen wir mit Mitgliedern, Ehrenamtlichen und Verantwortliche
 n über aktuelle Themen rund um den Verein, das Engagement für Natur und Hei
 mat sowie Aktivitäten für Jung und Alt.<br/>Erfahren Sie aus erster Hand, w
 elche Ideen, Projekte und Geschichten unseren Verein lebendig machen, welch
 e Wege wir gemeinsam gehen und wie Menschen durch ehrenamtliches Engagement
  verbunden werden. Ob neugierig auf neue Initiativen, Inspiration für eigen
 es Engagement oder einfach die Gesichter hinter dem Verein kennenlernen – h
 ier bekommen Sie kurze, informative und persönliche Einblicke.<br/><br/><br
 /><br/>Geführte Wanderungen und Radtouren<br/>„Treffpunkt Festplatz“ vor de
 r Donau-Lauchert Halle<br/>Sonntag, 14. Juni 2026, 9:30 Uhr<br/><br/> 	gefü
 hrte Tour, 12 km, 2,5 h an die Zielfinger Baggerseen<br/> 	geführte histori
 sche Tour um Sigmaringendorf, 9 km, 3 h<br/> 	Spaziergang zu einer Blumenwi
 ese anlässlich des Tags der Artenvielfalt<br/> 	Radtour, 35 km, Ablach-Dona
 utal<br/> 	Sternradtour (Infos folgen)<br/><br/>&nbsp;<br/><br/>&nbsp;<br/>
 <br/><br/>Uhrzeit:<br/>09:30 – 15:30Ort/Ausgangspunkt:<br/>Donau Lauchert H
 alle<br/>Laucertbühl 9<br/>Sigmaringendorf<br/><br/><br/><br/>
DTSTAMP:20260419T171739
DTSTART;VALUE=DATE:20260614
DTEND;VALUE=DATE:20260615
SEQUENCE:0
TRANSP:OPAQUE
END:VEVENT
END:VCALENDAR